BEGIN:VCALENDAR
VERSION:2.0
PRODID:-//Jazzclub Leipzig e.V. //NONSGML Events //EN
CALSCALE:GREGORIAN
X-WR-CALNAME:Jazzclub Leipzig e.V.
BEGIN:VEVENT
X-CREATED:20250822T083954Z
UID:36094
DTEND;VALUE=DATE:20250919T220000
DTSTART;VALUE=DATE:20250919T200000
DTSTAMP:20260423T091546Z
LOCATION:Theaterhaus Schille
DESCRIPTION:Sphärenmusik. Der Kosmos in der Musik, die Musik im Kosmos. Wer sie spielt, sagt auch etwas über die Menschen in ihm aus. Dass jetzt diese antike und mittelalterliche Vorstellung bei den astronomischen und tellurischen Erkundungen des Quartetts »Perplexities on Mars« wiederbelebt wird, scheint nötig bei dem ganzen techno-ideologischen Gerede voller Kolonialphantasien, das einem vonseiten der Superreichen gerade entgegenfliegt.
SUMMARY:LeipJAZZig-Konzertreihe: Perplexities on Mars
ORGANIZER:Jazzclub Leipzig e.V.
URL;VALUE=URI:https://www.jazzclub-leipzig.de/kategorie-jazzkalender/leipjazzig-konzertreihe-perplexities-on-mars/
TRANSP:OPAQUE
BEGIN:VALARM
ACTION:DISPLAY
TRIGGER;VALUE=DATE-TIME:20250919T190000Z
DESCRIPTION:Erinnerung an LeipJAZZig-Konzertreihe: Perplexities on Mars
END:VALARM
END:VEVENT
END:VCALENDAR
