BEGIN:VCALENDAR
VERSION:2.0
PRODID:-//Jazzclub Leipzig e.V. //NONSGML Events //EN
CALSCALE:GREGORIAN
X-WR-CALNAME:Jazzclub Leipzig e.V.
BEGIN:VEVENT
X-CREATED:20250822T074504Z
UID:36080
DTEND;VALUE=DATE:20250901T223000
DTSTART;VALUE=DATE:20250901T203000
DTSTAMP:20260422T214844Z
LOCATION:Südbrause
DESCRIPTION:Wer mit Jazz und einem leckeren Getränk in die neue Woche starten möchte, ist in der Südbrause genau richtig. Hier kann man jeden Montag Abend einen Mix an Jazzkompositionen in […]
SUMMARY:Monday Jazz
ORGANIZER:Jazzclub Leipzig e.V.
URL;VALUE=URI:https://www.jazzclub-leipzig.de/kategorie-jazzkalender/monday-jazz-14/
TRANSP:OPAQUE
BEGIN:VALARM
ACTION:DISPLAY
TRIGGER;VALUE=DATE-TIME:20250901T193000Z
DESCRIPTION:Erinnerung an Monday Jazz
END:VALARM
END:VEVENT
END:VCALENDAR
