BEGIN:VCALENDAR
VERSION:2.0
PRODID:-//Jazzclub Leipzig e.V. //NONSGML Events //EN
CALSCALE:GREGORIAN
X-WR-CALNAME:Jazzclub Leipzig e.V.
BEGIN:VEVENT
X-CREATED:20250702T113939Z
UID:35990
DTEND;VALUE=DATE:20250906T220000
DTSTART;VALUE=DATE:20250906T200000
DTSTAMP:20260422T214841Z
LOCATION:Fortuna - Kino der Jugend
DESCRIPTION:Im Kino der Jugend findet der fünfte Teil der »audible enclaves« Konzertreihe statt, die sich dem zeitgenössischen Jazz und der improvisierten Musik widmet. Dieses Mal gastiert der Bassklarinettist Rudi Mahall, […]
SUMMARY:audible enclaves #5 feat. Rudi Mahall
ORGANIZER:Jazzclub Leipzig e.V.
URL;VALUE=URI:https://www.jazzclub-leipzig.de/kategorie-jazzkalender/audible-enclaves-5/
TRANSP:OPAQUE
BEGIN:VALARM
ACTION:DISPLAY
TRIGGER;VALUE=DATE-TIME:20250906T190000Z
DESCRIPTION:Erinnerung an audible enclaves #5 feat. Rudi Mahall
END:VALARM
END:VEVENT
END:VCALENDAR
