BEGIN:VCALENDAR
VERSION:2.0
PRODID:-//Jazzclub Leipzig e.V. //NONSGML Events //EN
CALSCALE:GREGORIAN
X-WR-CALNAME:Jazzclub Leipzig e.V.
BEGIN:VEVENT
X-CREATED:20250507T104439Z
UID:35460
DTEND;VALUE=DATE:20250627T223000
DTSTART;VALUE=DATE:20250627T203000
DTSTAMP:20260419T154022Z
LOCATION:UT Connewitz
DESCRIPTION:»Viajes« ist in den meisten spanischsprachigen Ländern das Wort für »Reise« – und auf eine solche laden Jonas Timm und sein Trio uns mit ihrem neuen Live-Programm ein.
SUMMARY:Jazzclub Live Special: Jonas Timm Trio
ORGANIZER:Jazzclub Leipzig e.V.
URL;VALUE=URI:https://www.jazzclub-leipzig.de/kategorie-jazzkalender/jazzclub-live-special-jonas-timm-trio/
TRANSP:OPAQUE
BEGIN:VALARM
ACTION:DISPLAY
TRIGGER;VALUE=DATE-TIME:20250627T193000Z
DESCRIPTION:Erinnerung an Jazzclub Live Special: Jonas Timm Trio
END:VALARM
END:VEVENT
END:VCALENDAR
