BEGIN:VCALENDAR
VERSION:2.0
PRODID:-//Jazzclub Leipzig e.V. //NONSGML Events //EN
CALSCALE:GREGORIAN
X-WR-CALNAME:Jazzclub Leipzig e.V.
BEGIN:VEVENT
X-CREATED:20250507T100651Z
UID:35458
DTEND;VALUE=DATE:20250618T170000
DTSTART;VALUE=DATE:20250618T150000
DTSTAMP:20260419T153923Z
LOCATION:Parkbühne GeyserHaus
DESCRIPTION:Bereits in den vergangenen Jahren haben die JAZZALALA-Konzerte  für wiederholte Begeisterungsstürme beim jungen Publikum gesorgt. Nun hat das lange Warten ein Ende: Denn mit dem neuen Programm geht es endlich in eine neue Runde.
SUMMARY:JAZZALALA (Kinderkonzert)
ORGANIZER:Jazzclub Leipzig e.V.
URL;VALUE=URI:https://www.jazzclub-leipzig.de/kategorie-jazzkalender/jazzalala-kinderkonzert/
TRANSP:OPAQUE
BEGIN:VALARM
ACTION:DISPLAY
TRIGGER;VALUE=DATE-TIME:20250618T140000Z
DESCRIPTION:Erinnerung an JAZZALALA (Kinderkonzert)
END:VALARM
END:VEVENT
END:VCALENDAR
