BEGIN:VCALENDAR
VERSION:2.0
PRODID:-//Jazzclub Leipzig e.V. //NONSGML Events //EN
CALSCALE:GREGORIAN
X-WR-CALNAME:Jazzclub Leipzig e.V.
BEGIN:VEVENT
X-CREATED:20250430T131732Z
UID:35453
DTEND;VALUE=DATE:20250503T213000
DTSTART;VALUE=DATE:20250503T193000
DTSTAMP:20260419T172544Z
LOCATION:Cinémathèque Leipzig
DESCRIPTION:Wer macht heute eigentlich noch Jazzmusik? Auf der Suche nach Antworten ist der junge Leipziger Regisseur Sebastian Lautenbach auf den Kontrabassisten Robert Lucaciu, die Sängerin Kezia Christy sowie den Gitarristen Werner Neumann gestoßen.
SUMMARY:JAZZ/PEOPLE
ORGANIZER:Jazzclub Leipzig e.V.
URL;VALUE=URI:https://www.jazzclub-leipzig.de/kategorie-jazzkalender/jazz-people/
TRANSP:OPAQUE
BEGIN:VALARM
ACTION:DISPLAY
TRIGGER;VALUE=DATE-TIME:20250503T183000Z
DESCRIPTION:Erinnerung an JAZZ/PEOPLE
END:VALARM
END:VEVENT
END:VCALENDAR
