BEGIN:VCALENDAR
VERSION:2.0
PRODID:-//Jazzclub Leipzig e.V. //NONSGML Events //EN
CALSCALE:GREGORIAN
X-WR-CALNAME:Jazzclub Leipzig e.V.
BEGIN:VEVENT
X-CREATED:20250331T113901Z
UID:35158
DTEND;VALUE=DATE:20250426T170000
DTSTART;VALUE=DATE:20250426T150000
DTSTAMP:20260423T165923Z
LOCATION:Lindenauer Markt
DESCRIPTION:Im Mittelpunkt dieser Inszenierung stehen die Leipziger Meuten, zu denen in der Hochphase der NS-Zeit ca. 1500 Jugendliche gehörten. Das Stück hat der Regisseur und Musiker Schorsch Kamerun gemeinsam mit […]
SUMMARY:WILDE BÜHNE: MEUTEN MEMORIAL MOVEMENT
ORGANIZER:Jazzclub Leipzig e.V.
URL;VALUE=URI:https://www.jazzclub-leipzig.de/kategorie-jazzkalender/wilde-buehne-meuten-memorial-movement/
TRANSP:OPAQUE
BEGIN:VALARM
ACTION:DISPLAY
TRIGGER;VALUE=DATE-TIME:20250426T140000Z
DESCRIPTION:Erinnerung an WILDE BÜHNE: MEUTEN MEMORIAL MOVEMENT
END:VALARM
END:VEVENT
END:VCALENDAR
