BEGIN:VCALENDAR
VERSION:2.0
PRODID:-//Jazzclub Leipzig e.V. //NONSGML Events //EN
CALSCALE:GREGORIAN
X-WR-CALNAME:Jazzclub Leipzig e.V.
BEGIN:VEVENT
X-CREATED:20250331T112136Z
UID:35116
DTEND;VALUE=DATE:20250419T223000
DTSTART;VALUE=DATE:20250419T203000
DTSTAMP:20260423T175733Z
LOCATION:Horns Erben
DESCRIPTION:Das Duo vermengt in seinem Sound wehmütige Folklore mit Modern-Jazz-Tunes. Das begeisterte vor 17 Jahren auf dem Debüt »White Russian« genauso wie heute • Roman Banik (p, org), Dimitrij Markitanov […]
SUMMARY:Urban Wedding Duo
ORGANIZER:Jazzclub Leipzig e.V.
URL;VALUE=URI:https://www.jazzclub-leipzig.de/kategorie-jazzkalender/urban-wedding-duo/
TRANSP:OPAQUE
BEGIN:VALARM
ACTION:DISPLAY
TRIGGER;VALUE=DATE-TIME:20250419T193000Z
DESCRIPTION:Erinnerung an Urban Wedding Duo
END:VALARM
END:VEVENT
END:VCALENDAR
