BEGIN:VCALENDAR
VERSION:2.0
PRODID:-//Jazzclub Leipzig e.V. //NONSGML Events //EN
CALSCALE:GREGORIAN
X-WR-CALNAME:Jazzclub Leipzig e.V.
BEGIN:VEVENT
X-CREATED:20250331T112042Z
UID:35114
DTEND;VALUE=DATE:20250417T213000
DTSTART;VALUE=DATE:20250417T193000
DTSTAMP:20260423T175236Z
LOCATION:Horns Erben
DESCRIPTION:Jeden dritten Donnerstag im Monat findet die Hammond-Jazzsession im Horns Erben statt • Opener: t.b.a. • Eintritt frei
SUMMARY:Hammond[dʒæz]Session
ORGANIZER:Jazzclub Leipzig e.V.
URL;VALUE=URI:https://www.jazzclub-leipzig.de/kategorie-jazzkalender/hammondd%ca%92aezsession-11/
TRANSP:OPAQUE
BEGIN:VALARM
ACTION:DISPLAY
TRIGGER;VALUE=DATE-TIME:20250417T183000Z
DESCRIPTION:Erinnerung an Hammond[dʒæz]Session
END:VALARM
END:VEVENT
END:VCALENDAR
