BEGIN:VCALENDAR
VERSION:2.0
PRODID:-//Jazzclub Leipzig e.V. //NONSGML Events //EN
CALSCALE:GREGORIAN
X-WR-CALNAME:Jazzclub Leipzig e.V.
BEGIN:VEVENT
X-CREATED:20250331T111836Z
UID:35110
DTEND;VALUE=DATE:20250416T210000
DTSTART;VALUE=DATE:20250416T190000
DTSTAMP:20260423T175927Z
LOCATION:INO Café
DESCRIPTION:Seit 2017 existiert die Konzertreihe »no further noise« um den Gitarristen und Kopf des Projektes Jonas Dorn. Einmal im Monat gibt es hier in wechselnder Besetzung Jazz-Klassiker, Eigenkompositionen, experimentelle Elektrosounds […]
SUMMARY:no further noise 54
ORGANIZER:Jazzclub Leipzig e.V.
URL;VALUE=URI:https://www.jazzclub-leipzig.de/kategorie-jazzkalender/no-further-noise-54/
TRANSP:OPAQUE
BEGIN:VALARM
ACTION:DISPLAY
TRIGGER;VALUE=DATE-TIME:20250416T180000Z
DESCRIPTION:Erinnerung an no further noise 54
END:VALARM
END:VEVENT
END:VCALENDAR
