BEGIN:VCALENDAR
VERSION:2.0
PRODID:-//Jazzclub Leipzig e.V. //NONSGML Events //EN
CALSCALE:GREGORIAN
X-WR-CALNAME:Jazzclub Leipzig e.V.
BEGIN:VEVENT
X-CREATED:20250331T111410Z
UID:35100
DTEND;VALUE=DATE:20250412T223000
DTSTART;VALUE=DATE:20250412T203000
DTSTAMP:20260423T184957Z
LOCATION:Horns Erben
DESCRIPTION:Das Horns feiert Geburtstag – mit der Horns Band, der Jazz-Funk-Kapelle Searching For Home und dem Indie-Folk-Duo Deen & Blumenstein gibt es gleich drei prominente Grantulanten. Hinzu kommen DJs wie […]
SUMMARY:Big Birthday Bash – 20 Jahre Horns Erben
ORGANIZER:Jazzclub Leipzig e.V.
URL;VALUE=URI:https://www.jazzclub-leipzig.de/kategorie-jazzkalender/big-birthday-bash-20-jahre-horns-erben/
TRANSP:OPAQUE
BEGIN:VALARM
ACTION:DISPLAY
TRIGGER;VALUE=DATE-TIME:20250412T193000Z
DESCRIPTION:Erinnerung an Big Birthday Bash &#8211\; 20 Jahre Horns Erben
END:VALARM
END:VEVENT
END:VCALENDAR
