BEGIN:VCALENDAR
VERSION:2.0
PRODID:-//Jazzclub Leipzig e.V. //NONSGML Events //EN
CALSCALE:GREGORIAN
X-WR-CALNAME:Jazzclub Leipzig e.V.
BEGIN:VEVENT
X-CREATED:20250331T111319Z
UID:35096
DTEND;VALUE=DATE:20250411T220000
DTSTART;VALUE=DATE:20250411T200000
DTSTAMP:20260423T185231Z
LOCATION:Noch Besser Leben
DESCRIPTION:Das Projekt bewegt sich zwischen Experimental, Jazz, Neokraut und Noise Pop und hat mit »Snapshot Of Pure Attention« ein neues Album im Gepäck
SUMMARY:Painting
ORGANIZER:Jazzclub Leipzig e.V.
URL;VALUE=URI:https://www.jazzclub-leipzig.de/kategorie-jazzkalender/painting/
TRANSP:OPAQUE
BEGIN:VALARM
ACTION:DISPLAY
TRIGGER;VALUE=DATE-TIME:20250411T190000Z
DESCRIPTION:Erinnerung an Painting
END:VALARM
END:VEVENT
END:VCALENDAR
