BEGIN:VCALENDAR
VERSION:2.0
PRODID:-//Jazzclub Leipzig e.V. //NONSGML Events //EN
CALSCALE:GREGORIAN
X-WR-CALNAME:Jazzclub Leipzig e.V.
BEGIN:VEVENT
X-CREATED:20250331T105208Z
UID:35092
DTEND;VALUE=DATE:20250410T220000
DTSTART;VALUE=DATE:20250410T200000
DTSTAMP:20260423T191036Z
LOCATION:Noch Besser Leben
DESCRIPTION:Warum man dieses Konzert besuchen sollte, kann man in der aktuellen »Album des Monats«-Besprechung nachlesen: LoFi, Ambient und Postrock werden von Projektkopf Markus Rom auf unnachahmlich schöne Weise verschränkt
SUMMARY:Oh Not Noh
ORGANIZER:Jazzclub Leipzig e.V.
URL;VALUE=URI:https://www.jazzclub-leipzig.de/kategorie-jazzkalender/oh-not-noh/
TRANSP:OPAQUE
BEGIN:VALARM
ACTION:DISPLAY
TRIGGER;VALUE=DATE-TIME:20250410T190000Z
DESCRIPTION:Erinnerung an Oh Not Noh
END:VALARM
END:VEVENT
END:VCALENDAR
