BEGIN:VCALENDAR
VERSION:2.0
PRODID:-//Jazzclub Leipzig e.V. //NONSGML Events //EN
CALSCALE:GREGORIAN
X-WR-CALNAME:Jazzclub Leipzig e.V.
BEGIN:VEVENT
X-CREATED:20250331T104535Z
UID:35074
DTEND;VALUE=DATE:20250409T220000
DTSTART;VALUE=DATE:20250409T200000
DTSTAMP:20260423T200252Z
LOCATION:Tonne (Dresden)
DESCRIPTION:Dass die in New York lebende Schweizer Pianistin Courvoisier zu den Großen ihrer Zunft zählt, konnte man zuletzt u.a. im Rahmen der 48. Leipziger Jazztage erleben, wo sie mit ihrer […]
SUMMARY:Sylvie Courvoisier & Mary Halvorson
ORGANIZER:Jazzclub Leipzig e.V.
URL;VALUE=URI:https://www.jazzclub-leipzig.de/kategorie-jazzkalender/sylvie-courvoisier-mary-halvorson/
TRANSP:OPAQUE
BEGIN:VALARM
ACTION:DISPLAY
TRIGGER;VALUE=DATE-TIME:20250409T190000Z
DESCRIPTION:Erinnerung an Sylvie Courvoisier &amp\; Mary Halvorson
END:VALARM
END:VEVENT
END:VCALENDAR
