BEGIN:VCALENDAR
VERSION:2.0
PRODID:-//Jazzclub Leipzig e.V. //NONSGML Events //EN
CALSCALE:GREGORIAN
X-WR-CALNAME:Jazzclub Leipzig e.V.
BEGIN:VEVENT
X-CREATED:20250331T103314Z
UID:35070
DTEND;VALUE=DATE:20250408T223000
DTSTART;VALUE=DATE:20250408T203000
DTSTAMP:20260423T195557Z
LOCATION:UT Connewitz
DESCRIPTION:Radio Blau wird in diesem Frühjahr 30 Jahre alt. Als Gratulant konnte u.a. der New Yorker Rapper ODDISEE mitsamt seiner fantastischen Band GOOD COMPNY gewonnen werden • VVK 34 €
SUMMARY:30 Jahre Radio Blau: ODDISEE & GOOD COMPNY, MAD KEYS (us), & HELMUT SOUL
ORGANIZER:Jazzclub Leipzig e.V.
URL;VALUE=URI:https://www.jazzclub-leipzig.de/kategorie-jazzkalender/30-jahre-radio-blau-oddisee-good-compny-mad-keys-us-helmut-soul/
TRANSP:OPAQUE
BEGIN:VALARM
ACTION:DISPLAY
TRIGGER;VALUE=DATE-TIME:20250408T193000Z
DESCRIPTION:Erinnerung an 30 Jahre Radio Blau: ODDISEE &amp\; GOOD COMPNY\, MAD KEYS (us)\, &amp\; HELMUT SOUL
END:VALARM
END:VEVENT
END:VCALENDAR
