BEGIN:VCALENDAR
VERSION:2.0
PRODID:-//Jazzclub Leipzig e.V. //NONSGML Events //EN
CALSCALE:GREGORIAN
X-WR-CALNAME:Jazzclub Leipzig e.V.
BEGIN:VEVENT
X-CREATED:20250331T103053Z
UID:35064
DTEND;VALUE=DATE:20250405T223000
DTSTART;VALUE=DATE:20250405T203000
DTSTAMP:20260423T195558Z
LOCATION:A-Trane (Berlin)
DESCRIPTION:»Old school« – im besten Sinne des Wortes – klingt das neue Album »The Pristine Sound of Root 70«, das den Geist der späten Sechziger und frühen Siebziger atmet • […]
SUMMARY:A-Trane präsentiert Nils Wogram & Root 70
ORGANIZER:Jazzclub Leipzig e.V.
URL;VALUE=URI:https://www.jazzclub-leipzig.de/kategorie-jazzkalender/a-trane-praesentiert-nils-wogram-root-70/
TRANSP:OPAQUE
BEGIN:VALARM
ACTION:DISPLAY
TRIGGER;VALUE=DATE-TIME:20250405T193000Z
DESCRIPTION:Erinnerung an A-Trane präsentiert Nils Wogram &amp\; Root 70
END:VALARM
END:VEVENT
END:VCALENDAR
