BEGIN:VCALENDAR
VERSION:2.0
PRODID:-//Jazzclub Leipzig e.V. //NONSGML Events //EN
CALSCALE:GREGORIAN
X-WR-CALNAME:Jazzclub Leipzig e.V.
BEGIN:VEVENT
X-CREATED:20250331T102942Z
UID:35062
DTEND;VALUE=DATE:20250405T220000
DTSTART;VALUE=DATE:20250405T200000
DTSTAMP:20260423T195556Z
LOCATION:Tonne (Dresden)
DESCRIPTION:Immer wieder aufs neue begeistert die Jazzpianistin Kritik und Publikum mit einem erstaunlich breit gefächerten stilistischen Spektrum und ihrer unnachahmlichen Ausdruckskraft – so auch jüngst auf ihrem neuen Album »Plateaux«, […]
SUMMARY:Clara Haberkamp Trio
ORGANIZER:Jazzclub Leipzig e.V.
URL;VALUE=URI:https://www.jazzclub-leipzig.de/kategorie-jazzkalender/clara-haberkamp-trio/
TRANSP:OPAQUE
BEGIN:VALARM
ACTION:DISPLAY
TRIGGER;VALUE=DATE-TIME:20250405T190000Z
DESCRIPTION:Erinnerung an Clara Haberkamp Trio
END:VALARM
END:VEVENT
END:VCALENDAR
