BEGIN:VCALENDAR
VERSION:2.0
PRODID:-//Jazzclub Leipzig e.V. //NONSGML Events //EN
CALSCALE:GREGORIAN
X-WR-CALNAME:Jazzclub Leipzig e.V.
BEGIN:VEVENT
X-CREATED:20250331T102845Z
UID:35060
DTEND;VALUE=DATE:20250405T220000
DTSTART;VALUE=DATE:20250405T200000
DTSTAMP:20260423T200254Z
LOCATION:Horns Erben
DESCRIPTION:Das Ton_Kollektiv hat sich seit seiner Gründung im Jahr 2022 zu einem Schmelztegel aus Pop, Funk, Soul und Jazz entwickelt und präsentiert dabei die ganze Palette von tanzbaren Beats bis […]
SUMMARY:Ton_Kollektiv
ORGANIZER:Jazzclub Leipzig e.V.
URL;VALUE=URI:https://www.jazzclub-leipzig.de/kategorie-jazzkalender/ton_kollektiv/
TRANSP:OPAQUE
BEGIN:VALARM
ACTION:DISPLAY
TRIGGER;VALUE=DATE-TIME:20250405T190000Z
DESCRIPTION:Erinnerung an Ton_Kollektiv
END:VALARM
END:VEVENT
END:VCALENDAR
