BEGIN:VCALENDAR
VERSION:2.0
PRODID:-//Jazzclub Leipzig e.V. //NONSGML Events //EN
CALSCALE:GREGORIAN
X-WR-CALNAME:Jazzclub Leipzig e.V.
BEGIN:VEVENT
X-CREATED:20250331T095555Z
UID:35056
DTEND;VALUE=DATE:20250404T220000
DTSTART;VALUE=DATE:20250404T200000
DTSTAMP:20260423T200251Z
LOCATION:Werk 2
DESCRIPTION:Indie Pop, Gypsy Jazz, Bossa Nova, Wiener Schmäh und Folk sind nicht zusammen zu haben? Die Österreicher von Buntspecht belehren uns eines Besseren. Seit ihrem Debüt »Großteil Kleinigkeit« aus dem […]
SUMMARY:BUNTSPECHT + ELSA
ORGANIZER:Jazzclub Leipzig e.V.
URL;VALUE=URI:https://www.jazzclub-leipzig.de/kategorie-jazzkalender/buntspecht-elsa/
TRANSP:OPAQUE
BEGIN:VALARM
ACTION:DISPLAY
TRIGGER;VALUE=DATE-TIME:20250404T190000Z
DESCRIPTION:Erinnerung an BUNTSPECHT + ELSA
END:VALARM
END:VEVENT
END:VCALENDAR
