BEGIN:VCALENDAR
VERSION:2.0
PRODID:-//Jazzclub Leipzig e.V. //NONSGML Events //EN
CALSCALE:GREGORIAN
X-WR-CALNAME:Jazzclub Leipzig e.V.
BEGIN:VEVENT
X-CREATED:20250327T101837Z
UID:35054
DTEND;VALUE=DATE:20250404T220000
DTSTART;VALUE=DATE:20250404T200000
DTSTAMP:20260423T210524Z
LOCATION:Tonne (Dresden)
DESCRIPTION:Die Musik von Wordservice Project ist eine Wucht: Ob Jazz, Punk, Prog oder Rock, ist dabei egal. Der Kopf darf weichen, der Körper muss bleiben – bzw. hingehen • Dave […]
SUMMARY:Worldservice Project
ORGANIZER:Jazzclub Leipzig e.V.
URL;VALUE=URI:https://www.jazzclub-leipzig.de/kategorie-jazzkalender/worldservice-project/
TRANSP:OPAQUE
BEGIN:VALARM
ACTION:DISPLAY
TRIGGER;VALUE=DATE-TIME:20250404T190000Z
DESCRIPTION:Erinnerung an Worldservice Project
END:VALARM
END:VEVENT
END:VCALENDAR
