BEGIN:VCALENDAR
VERSION:2.0
PRODID:-//Jazzclub Leipzig e.V. //NONSGML Events //EN
CALSCALE:GREGORIAN
X-WR-CALNAME:Jazzclub Leipzig e.V.
BEGIN:VEVENT
X-CREATED:20250327T101615Z
UID:35052
DTEND;VALUE=DATE:20250404T220000
DTSTART;VALUE=DATE:20250404T200000
DTSTAMP:20260423T205720Z
LOCATION:Horns Erben
DESCRIPTION:Bands und Solokünstler:innen der Musikschule Leipzig »Johann Sebastian Bach« treffen sich an diesem Abend, um Eigenkompositionen und Neuinterpretationen von Pop bis Jazz zu präsentieren
SUMMARY:Get The Groove
ORGANIZER:Jazzclub Leipzig e.V.
URL;VALUE=URI:https://www.jazzclub-leipzig.de/kategorie-jazzkalender/get-the-groove/
TRANSP:OPAQUE
BEGIN:VALARM
ACTION:DISPLAY
TRIGGER;VALUE=DATE-TIME:20250404T190000Z
DESCRIPTION:Erinnerung an Get The Groove
END:VALARM
END:VEVENT
END:VCALENDAR
