BEGIN:VCALENDAR
VERSION:2.0
PRODID:-//Jazzclub Leipzig e.V. //NONSGML Events //EN
CALSCALE:GREGORIAN
X-WR-CALNAME:Jazzclub Leipzig e.V.
BEGIN:VEVENT
X-CREATED:20250327T100822Z
UID:35048
DTEND;VALUE=DATE:20250403T213000
DTSTART;VALUE=DATE:20250403T193000
DTSTAMP:20260423T210257Z
LOCATION:Horns Erben
DESCRIPTION:Jeden Donnerstag findet die Jazzsession im Horns Erben statt • Opener: Sonic Abra • Eintritt frei
SUMMARY:Horns[dʒæz]Session
ORGANIZER:Jazzclub Leipzig e.V.
URL;VALUE=URI:https://www.jazzclub-leipzig.de/kategorie-jazzkalender/hornsd%ca%92aezsession-99/
TRANSP:OPAQUE
BEGIN:VALARM
ACTION:DISPLAY
TRIGGER;VALUE=DATE-TIME:20250403T183000Z
DESCRIPTION:Erinnerung an Horns[dʒæz]Session
END:VALARM
END:VEVENT
END:VCALENDAR
