BEGIN:VCALENDAR
VERSION:2.0
PRODID:-//Jazzclub Leipzig e.V. //NONSGML Events //EN
CALSCALE:GREGORIAN
X-WR-CALNAME:Jazzclub Leipzig e.V.
BEGIN:VEVENT
X-CREATED:20250225T153232Z
UID:34912
DTEND;VALUE=DATE:20250331T213000
DTSTART;VALUE=DATE:20250331T193000
DTSTAMP:20260422T105939Z
LOCATION:Laden auf Zeit
DESCRIPTION:Das „We See Trio“ aus der Metropolregion Halle-Leipzig bringt die zeitlosen Kompositionen von Duke Ellington und Thelonious Monk in einer reduzierten Klaviertrio-Besetzung auf die Bühne – prägnant, aber nicht ohne […]
SUMMARY:Montags-Jazz im Laden auf Zeit: “We See Trio“
ORGANIZER:Jazzclub Leipzig e.V.
URL;VALUE=URI:https://www.jazzclub-leipzig.de/kategorie-jazzkalender/montags-jazz-im-laden-auf-zeit-we-see-trio/
TRANSP:OPAQUE
BEGIN:VALARM
ACTION:DISPLAY
TRIGGER;VALUE=DATE-TIME:20250331T183000Z
DESCRIPTION:Erinnerung an Montags-Jazz im Laden auf Zeit: “We See Trio“
END:VALARM
END:VEVENT
END:VCALENDAR
