BEGIN:VCALENDAR
VERSION:2.0
PRODID:-//Jazzclub Leipzig e.V. //NONSGML Events //EN
CALSCALE:GREGORIAN
X-WR-CALNAME:Jazzclub Leipzig e.V.
BEGIN:VEVENT
X-CREATED:20250225T143044Z
UID:34888
DTEND;VALUE=DATE:20250322T220000
DTSTART;VALUE=DATE:20250322T200000
DTSTAMP:20260422T105938Z
LOCATION:Mediencampus Villa Ida
DESCRIPTION:Dass die isländische Jazzszene längst mehr als nur ein Geheimtipp ist, ist nicht zuletzt auf die umtriebige Pianistin Sunna Gunnlaugs zurückzuführen. Mit »Becoming« veröffentlichte sie vor zwei Jahren das insgesamt neunte Album ihrer Karriere. Darauf zu finden ist ein so reduzierter wie bezaubernder Pianojazzsound, frei von Klischees und Allüren.
SUMMARY:Campus Jazz | Sunna Gunnlaugs Trio
ORGANIZER:Jazzclub Leipzig e.V.
URL;VALUE=URI:https://www.jazzclub-leipzig.de/kategorie-jazzkalender/campus-jazz-sunna-gunnlaugs-trio/
TRANSP:OPAQUE
BEGIN:VALARM
ACTION:DISPLAY
TRIGGER;VALUE=DATE-TIME:20250322T190000Z
DESCRIPTION:Erinnerung an Campus Jazz | Sunna Gunnlaugs Trio
END:VALARM
END:VEVENT
END:VCALENDAR
