BEGIN:VCALENDAR
VERSION:2.0
PRODID:-//Jazzclub Leipzig e.V. //NONSGML Events //EN
CALSCALE:GREGORIAN
X-WR-CALNAME:Jazzclub Leipzig e.V.
BEGIN:VEVENT
X-CREATED:20250225T143212Z
UID:34887
DTEND;VALUE=DATE:20250324T220000
DTSTART;VALUE=DATE:20250324T200000
DTSTAMP:20260423T224701Z
LOCATION:UT Connewitz
DESCRIPTION:Das Ghost Funk Orchestra ist ein klangliches Kaleidoskop, das sich nicht auf ein bestimmtes Genre festlegen lässt, sondern starke Einflüsse aus der Welt des Soul, Psych-Rock, Salsa und anderen Genres […]
SUMMARY:GHOST FUNK ORCHESTRA
ORGANIZER:Jazzclub Leipzig e.V.
URL;VALUE=URI:https://www.jazzclub-leipzig.de/kategorie-jazzkalender/ghost-funk-orchestra/
TRANSP:OPAQUE
BEGIN:VALARM
ACTION:DISPLAY
TRIGGER;VALUE=DATE-TIME:20250324T190000Z
DESCRIPTION:Erinnerung an GHOST FUNK ORCHESTRA
END:VALARM
END:VEVENT
END:VCALENDAR
