BEGIN:VCALENDAR
VERSION:2.0
PRODID:-//Jazzclub Leipzig e.V. //NONSGML Events //EN
CALSCALE:GREGORIAN
X-WR-CALNAME:Jazzclub Leipzig e.V.
BEGIN:VEVENT
X-CREATED:20250225T142330Z
UID:34885
DTEND;VALUE=DATE:20250322T220000
DTSTART;VALUE=DATE:20250322T200000
DTSTAMP:20260423T225308Z
LOCATION:Horns Erben
DESCRIPTION:Der in Brooklyn geborene Jazzpianist und Komponist Richie Beirach ist für seine lyrische und stets innovative Spielweise bekannt und gilt als Schlüsselfigur des modernen Jazzpianos. Seine musikalischen Inspirationen verbinden die […]
SUMMARY:ABGESAGT Richie Beirach – The Leipzig Solo Piano Concert
ORGANIZER:Jazzclub Leipzig e.V.
URL;VALUE=URI:https://www.jazzclub-leipzig.de/kategorie-jazzkalender/nachholtermin-richie-beirach-the-leipzig-solo-piano-concert/
TRANSP:OPAQUE
BEGIN:VALARM
ACTION:DISPLAY
TRIGGER;VALUE=DATE-TIME:20250322T190000Z
DESCRIPTION:Erinnerung an ABGESAGT Richie Beirach – The Leipzig Solo Piano Concert
END:VALARM
END:VEVENT
END:VCALENDAR
