BEGIN:VCALENDAR
VERSION:2.0
PRODID:-//Jazzclub Leipzig e.V. //NONSGML Events //EN
CALSCALE:GREGORIAN
X-WR-CALNAME:Jazzclub Leipzig e.V.
BEGIN:VEVENT
X-CREATED:20250225T141823Z
UID:34883
DTEND;VALUE=DATE:20250320T213000
DTSTART;VALUE=DATE:20250320T193000
DTSTAMP:20260423T225216Z
LOCATION:Horns Erben
DESCRIPTION:Jeden Donnerstag findet die Jazzsession im Horns Erben statt • Eintritt frei
SUMMARY:Hammond[dʒæz]Session
ORGANIZER:Jazzclub Leipzig e.V.
URL;VALUE=URI:https://www.jazzclub-leipzig.de/kategorie-jazzkalender/hammondd%ca%92aezsession-8/
TRANSP:OPAQUE
BEGIN:VALARM
ACTION:DISPLAY
TRIGGER;VALUE=DATE-TIME:20250320T183000Z
DESCRIPTION:Erinnerung an Hammond[dʒæz]Session
END:VALARM
END:VEVENT
END:VCALENDAR
