BEGIN:VCALENDAR
VERSION:2.0
PRODID:-//Jazzclub Leipzig e.V. //NONSGML Events //EN
CALSCALE:GREGORIAN
X-WR-CALNAME:Jazzclub Leipzig e.V.
BEGIN:VEVENT
X-CREATED:20250225T141538Z
UID:34877
DTEND;VALUE=DATE:20250319T220000
DTSTART;VALUE=DATE:20250319T200000
DTSTAMP:20260423T225021Z
LOCATION:WERK 2
DESCRIPTION:SHIMMER. macht Indiepop mit Einflüssen aus Disco und Funk mit deutschen Texten und verzichtet dabei komplett auf Backingtracks oder Playbacks. Liebestrunken setzt sich zusammen aus: Einem Jazzpianisten, dessen Harmonien und […]
SUMMARY:SHIMMER. x Liebestrunken
ORGANIZER:Jazzclub Leipzig e.V.
URL;VALUE=URI:https://www.jazzclub-leipzig.de/kategorie-jazzkalender/shimmer-x-liebestrunken/
TRANSP:OPAQUE
BEGIN:VALARM
ACTION:DISPLAY
TRIGGER;VALUE=DATE-TIME:20250319T190000Z
DESCRIPTION:Erinnerung an SHIMMER. x Liebestrunken
END:VALARM
END:VEVENT
END:VCALENDAR
