BEGIN:VCALENDAR
VERSION:2.0
PRODID:-//Jazzclub Leipzig e.V. //NONSGML Events //EN
CALSCALE:GREGORIAN
X-WR-CALNAME:Jazzclub Leipzig e.V.
BEGIN:VEVENT
X-CREATED:20250225T105757Z
UID:34864
DTEND;VALUE=DATE:20250316T210000
DTSTART;VALUE=DATE:20250316T190000
DTSTAMP:20260423T225021Z
LOCATION:Cafe INO
DESCRIPTION:Seit 2017 existiert die Konzertreihe »no further noise« um den Gitarristen und Kopf des Projektes Jonas Dorn. Einmal im Monat gibt es hier in wechselnder Besetzung Jazz-Klassiker, Eigenkompositionen, experimentelle Elektrosounds […]
SUMMARY:No Further Noise 53
ORGANIZER:Jazzclub Leipzig e.V.
URL;VALUE=URI:https://www.jazzclub-leipzig.de/kategorie-jazzkalender/no-further-noise-53/
TRANSP:OPAQUE
BEGIN:VALARM
ACTION:DISPLAY
TRIGGER;VALUE=DATE-TIME:20250316T180000Z
DESCRIPTION:Erinnerung an No Further Noise 53
END:VALARM
END:VEVENT
END:VCALENDAR
