BEGIN:VCALENDAR
VERSION:2.0
PRODID:-//Jazzclub Leipzig e.V. //NONSGML Events //EN
CALSCALE:GREGORIAN
X-WR-CALNAME:Jazzclub Leipzig e.V.
BEGIN:VEVENT
X-CREATED:20250225T105658Z
UID:34862
DTEND;VALUE=DATE:20250313T220000
DTSTART;VALUE=DATE:20250313T200000
DTSTAMP:20260422T105940Z
LOCATION:UT Connewitz
DESCRIPTION:Das LeipJAZZig Frühjahrs Festival Duos & Large Ensembles präsentiert an jedem Abend ein Duo-Konzert, das kontrastreich in die Welt der großen Ensembles überführt. Von den 1920er Jahren (LeipJAZZig-Orkester) über experimentelle […]
SUMMARY:Festival LeipJAZZig: Duos & Large Ensembles
ORGANIZER:Jazzclub Leipzig e.V.
URL;VALUE=URI:https://www.jazzclub-leipzig.de/kategorie-jazzkalender/festival-leipjazzig-duos-large-ensembles/
TRANSP:OPAQUE
BEGIN:VALARM
ACTION:DISPLAY
TRIGGER;VALUE=DATE-TIME:20250313T190000Z
DESCRIPTION:Erinnerung an Festival LeipJAZZig: Duos &amp\; Large Ensembles
END:VALARM
END:VEVENT
END:VCALENDAR
