BEGIN:VCALENDAR
VERSION:2.0
PRODID:-//Jazzclub Leipzig e.V. //NONSGML Events //EN
CALSCALE:GREGORIAN
X-WR-CALNAME:Jazzclub Leipzig e.V.
BEGIN:VEVENT
X-CREATED:20250225T105408Z
UID:34856
DTEND;VALUE=DATE:20250312T220000
DTSTART;VALUE=DATE:20250312T200000
DTSTAMP:20260422T105939Z
LOCATION:UT Connewitz
DESCRIPTION:Die belgische Sängerin Sylvie Kreusch war lange im Dunstkreis der Band Warhaus unterwegs. Unverwechelbar ist ihre markante Stimme, mit der sie besondere Akzente setzt. Drei Jahre ist die Veröffentlichug ihres […]
SUMMARY:Sylvie Kreusch
ORGANIZER:Jazzclub Leipzig e.V.
URL;VALUE=URI:https://www.jazzclub-leipzig.de/kategorie-jazzkalender/sylvie-kreusch/
TRANSP:OPAQUE
BEGIN:VALARM
ACTION:DISPLAY
TRIGGER;VALUE=DATE-TIME:20250312T190000Z
DESCRIPTION:Erinnerung an Sylvie Kreusch
END:VALARM
END:VEVENT
END:VCALENDAR
