BEGIN:VCALENDAR
VERSION:2.0
PRODID:-//Jazzclub Leipzig e.V. //NONSGML Events //EN
CALSCALE:GREGORIAN
X-WR-CALNAME:Jazzclub Leipzig e.V.
BEGIN:VEVENT
X-CREATED:20250225T105317Z
UID:34854
DTEND;VALUE=DATE:20250312T220000
DTSTART;VALUE=DATE:20250312T200000
DTSTAMP:20260423T232040Z
LOCATION:Horns Erben
DESCRIPTION:Flash! Trip! Kick! Mit einer Mixtur aus Jazz, Punk, Blues, Folk und Pop sorgen Botticelli Baby auf ihren Konzerten für schweißnasses Haar, Muskelkater am nächsten Tag und Dauergrinsen im Gesicht […]
SUMMARY:Botticelli Baby – Tour
ORGANIZER:Jazzclub Leipzig e.V.
URL;VALUE=URI:https://www.jazzclub-leipzig.de/kategorie-jazzkalender/botticelli-baby-tour/
TRANSP:OPAQUE
BEGIN:VALARM
ACTION:DISPLAY
TRIGGER;VALUE=DATE-TIME:20250312T190000Z
DESCRIPTION:Erinnerung an Botticelli Baby – Tour
END:VALARM
END:VEVENT
END:VCALENDAR
