BEGIN:VCALENDAR
VERSION:2.0
PRODID:-//Jazzclub Leipzig e.V. //NONSGML Events //EN
CALSCALE:GREGORIAN
X-WR-CALNAME:Jazzclub Leipzig e.V.
BEGIN:VEVENT
X-CREATED:20250225T102708Z
UID:34852
DTEND;VALUE=DATE:20250312T210000
DTSTART;VALUE=DATE:20250312T190000
DTSTAMP:20260423T231911Z
LOCATION:Cafe INO
DESCRIPTION:Seit 2017 existiert die Konzertreihe »no further noise« um den Gitarristen und Kopf des Projektes Jonas Dorn. Einmal im Monat gibt es hier in wechselnder Besetzung Jazz-Klassiker, Eigenkompositionen, experimentelle Elektrosounds […]
SUMMARY:No Further Noise 52
ORGANIZER:Jazzclub Leipzig e.V.
URL;VALUE=URI:https://www.jazzclub-leipzig.de/kategorie-jazzkalender/no-further-noise-52/
TRANSP:OPAQUE
BEGIN:VALARM
ACTION:DISPLAY
TRIGGER;VALUE=DATE-TIME:20250312T180000Z
DESCRIPTION:Erinnerung an No Further Noise 52
END:VALARM
END:VEVENT
END:VCALENDAR
