BEGIN:VCALENDAR
VERSION:2.0
PRODID:-//Jazzclub Leipzig e.V. //NONSGML Events //EN
CALSCALE:GREGORIAN
X-WR-CALNAME:Jazzclub Leipzig e.V.
BEGIN:VEVENT
X-CREATED:20250225T102252Z
UID:34844
DTEND;VALUE=DATE:20250308T223000
DTSTART;VALUE=DATE:20250308T203000
DTSTAMP:20260423T231943Z
LOCATION:die naTo
DESCRIPTION:Das Big Band Programm »Let’s Get Out of Here« des Dresdner Komponisten Mathis Nicolaus baut in z. T. erstmals aufgeführten Kompositionen musikalische Erwartungen auf, nur um sie kurz darauf wieder […]
SUMMARY:Spielvereinigung Sued feat. Mathis Nicolaus
ORGANIZER:Jazzclub Leipzig e.V.
URL;VALUE=URI:https://www.jazzclub-leipzig.de/kategorie-jazzkalender/spielvereinigung-sued-feat-mathis-nicolaus/
TRANSP:OPAQUE
BEGIN:VALARM
ACTION:DISPLAY
TRIGGER;VALUE=DATE-TIME:20250308T193000Z
DESCRIPTION:Erinnerung an Spielvereinigung Sued feat. Mathis Nicolaus
END:VALARM
END:VEVENT
END:VCALENDAR
