BEGIN:VCALENDAR
VERSION:2.0
PRODID:-//Jazzclub Leipzig e.V. //NONSGML Events //EN
CALSCALE:GREGORIAN
X-WR-CALNAME:Jazzclub Leipzig e.V.
BEGIN:VEVENT
X-CREATED:20250225T101624Z
UID:34838
DTEND;VALUE=DATE:20250308T220000
DTSTART;VALUE=DATE:20250308T200000
DTSTAMP:20260423T231943Z
LOCATION:UT Connewitz
DESCRIPTION:Die Batiar Gang ist ein einzigartiges Kollektiv aus klirrendem Gebläse von Trompeten, Saxophonen und Klarinette, zwei artistischen Akkordeons, einem wuchtigen Schlagzeug, funzigem Bass und einzigartigen, mehrstimmigen Gesängen Südosteuropas. Mit im […]
SUMMARY:Albumreleaseparty präsentiert von Disko Sued: Batiar Gang & Friends
ORGANIZER:Jazzclub Leipzig e.V.
URL;VALUE=URI:https://www.jazzclub-leipzig.de/kategorie-jazzkalender/albumreleaseparty-praesentiert-von-disko-sued-batiar-gang-friends/
TRANSP:OPAQUE
BEGIN:VALARM
ACTION:DISPLAY
TRIGGER;VALUE=DATE-TIME:20250308T190000Z
DESCRIPTION:Erinnerung an Albumreleaseparty präsentiert von Disko Sued: Batiar Gang &amp\; Friends
END:VALARM
END:VEVENT
END:VCALENDAR
