BEGIN:VCALENDAR
VERSION:2.0
PRODID:-//Jazzclub Leipzig e.V. //NONSGML Events //EN
CALSCALE:GREGORIAN
X-WR-CALNAME:Jazzclub Leipzig e.V.
BEGIN:VEVENT
X-CREATED:20250225T101345Z
UID:34834
DTEND;VALUE=DATE:20250307T210000
DTSTART;VALUE=DATE:20250307T190000
DTSTAMP:20260424T011344Z
LOCATION:Neues Rathaus\, Festsaal
DESCRIPTION:Seit 2011 organisiert der Verein Kids Jazz L.E. e.V. das Festival, das vor allem Begegnungen junger Menschen fördert, die sich mit Jazz und improvisierter Musik beschäftigen. Vom 7. bis 9. […]
SUMMARY:15. Kids Jazz L.E.
ORGANIZER:Jazzclub Leipzig e.V.
URL;VALUE=URI:https://www.jazzclub-leipzig.de/kategorie-jazzkalender/15-kids-jazz-l-e/
TRANSP:OPAQUE
BEGIN:VALARM
ACTION:DISPLAY
TRIGGER;VALUE=DATE-TIME:20250307T180000Z
DESCRIPTION:Erinnerung an 15. Kids Jazz L.E.
END:VALARM
END:VEVENT
END:VCALENDAR
