BEGIN:VCALENDAR
VERSION:2.0
PRODID:-//Jazzclub Leipzig e.V. //NONSGML Events //EN
CALSCALE:GREGORIAN
X-WR-CALNAME:Jazzclub Leipzig e.V.
BEGIN:VEVENT
X-CREATED:20250127T104809Z
UID:34762
DTEND;VALUE=DATE:20250228T220000
DTSTART;VALUE=DATE:20250228T200000
DTSTAMP:20260424T012121Z
LOCATION:Horns Erben
DESCRIPTION:Zwischen Modern Jazz, Tango und funky Grooves bewegt sich das international besetzte Quartett unter Leitung von Bandleader Frank Kaiser • Frank Kaiser (git), Valentin Butt (acc) , Lukas Growe (db), […]
SUMMARY:Kaisers New World
ORGANIZER:Jazzclub Leipzig e.V.
URL;VALUE=URI:https://www.jazzclub-leipzig.de/kategorie-jazzkalender/kaisers-new-world-2/
TRANSP:OPAQUE
BEGIN:VALARM
ACTION:DISPLAY
TRIGGER;VALUE=DATE-TIME:20250228T190000Z
DESCRIPTION:Erinnerung an Kaisers New World
END:VALARM
END:VEVENT
END:VCALENDAR
