BEGIN:VCALENDAR
VERSION:2.0
PRODID:-//Jazzclub Leipzig e.V. //NONSGML Events //EN
CALSCALE:GREGORIAN
X-WR-CALNAME:Jazzclub Leipzig e.V.
BEGIN:VEVENT
X-CREATED:20250127T104604Z
UID:34758
DTEND;VALUE=DATE:20250227T213000
DTSTART;VALUE=DATE:20250227T193000
DTSTAMP:20260424T012137Z
LOCATION:Horns Erben
DESCRIPTION:Jeden Donnerstag findet die Jazzsession im Horns Erben statt • Session-Opener: Johannes Moritz Band • Eintritt frei
SUMMARY:Horns[dʒæz]Session
ORGANIZER:Jazzclub Leipzig e.V.
URL;VALUE=URI:https://www.jazzclub-leipzig.de/kategorie-jazzkalender/hornsd%ca%92aezsession-96/
TRANSP:OPAQUE
BEGIN:VALARM
ACTION:DISPLAY
TRIGGER;VALUE=DATE-TIME:20250227T183000Z
DESCRIPTION:Erinnerung an Horns[dʒæz]Session
END:VALARM
END:VEVENT
END:VCALENDAR
