BEGIN:VCALENDAR
VERSION:2.0
PRODID:-//Jazzclub Leipzig e.V. //NONSGML Events //EN
CALSCALE:GREGORIAN
X-WR-CALNAME:Jazzclub Leipzig e.V.
BEGIN:VEVENT
X-CREATED:20250127T103402Z
UID:34749
DTEND;VALUE=DATE:20250222T220000
DTSTART;VALUE=DATE:20250222T200000
DTSTAMP:20260424T012121Z
LOCATION:Horns Erben
DESCRIPTION:Das neue Projekt des Bassisten und Dresdner Jazzprofessors Tom Götze präsentiert einen raffinierten wie zugleich höchst tanzbaren Jazz-Fusion-Sound • Tom Götze (b), Michal Skulski (s), Moritz Grosch (dr), Christian Stoltz […]
SUMMARY:The Glam
ORGANIZER:Jazzclub Leipzig e.V.
URL;VALUE=URI:https://www.jazzclub-leipzig.de/kategorie-jazzkalender/the-glam/
TRANSP:OPAQUE
BEGIN:VALARM
ACTION:DISPLAY
TRIGGER;VALUE=DATE-TIME:20250222T190000Z
DESCRIPTION:Erinnerung an The Glam
END:VALARM
END:VEVENT
END:VCALENDAR
