BEGIN:VCALENDAR
VERSION:2.0
PRODID:-//Jazzclub Leipzig e.V. //NONSGML Events //EN
CALSCALE:GREGORIAN
X-WR-CALNAME:Jazzclub Leipzig e.V.
BEGIN:VEVENT
X-CREATED:20250127T100302Z
UID:34741
DTEND;VALUE=DATE:20250221T220000
DTSTART;VALUE=DATE:20250221T200000
DTSTAMP:20260424T012209Z
LOCATION:Horns Erben
DESCRIPTION:In der Hallenser Gallerie BLECH fand das Duo zueinander und präsentiert seitdem einen Sound an der Schnittstelle zwischen melancholischen Melodien und rezitativem Gesang • Sylvie Viain (voc, p), Albrecht Brandt […]
SUMMARY:Eggnog the Nonth
ORGANIZER:Jazzclub Leipzig e.V.
URL;VALUE=URI:https://www.jazzclub-leipzig.de/kategorie-jazzkalender/eggnog-the-nonth/
TRANSP:OPAQUE
BEGIN:VALARM
ACTION:DISPLAY
TRIGGER;VALUE=DATE-TIME:20250221T190000Z
DESCRIPTION:Erinnerung an Eggnog the Nonth
END:VALARM
END:VEVENT
END:VCALENDAR
