BEGIN:VCALENDAR
VERSION:2.0
PRODID:-//Jazzclub Leipzig e.V. //NONSGML Events //EN
CALSCALE:GREGORIAN
X-WR-CALNAME:Jazzclub Leipzig e.V.
BEGIN:VEVENT
X-CREATED:20250127T095200Z
UID:34730
DTEND;VALUE=DATE:20250220T220000
DTSTART;VALUE=DATE:20250220T200000
DTSTAMP:20260424T023918Z
LOCATION:Blue Note (Dresden)
DESCRIPTION:Der Gitarrist vereint in seinem Sound Einflüsse von Coltrane, Hendrix, indischer Klassik und Neoromantik zu einer eigenen Klangsprache • Alessio Cazzetta (git), David Binney (s), Iago Fernandez (dr), Kuba Dworak […]
SUMMARY:Alessio Cazzetta Quartet
ORGANIZER:Jazzclub Leipzig e.V.
URL;VALUE=URI:https://www.jazzclub-leipzig.de/kategorie-jazzkalender/alessio-cazzetta-quartet/
TRANSP:OPAQUE
BEGIN:VALARM
ACTION:DISPLAY
TRIGGER;VALUE=DATE-TIME:20250220T190000Z
DESCRIPTION:Erinnerung an Alessio Cazzetta Quartet
END:VALARM
END:VEVENT
END:VCALENDAR
