BEGIN:VCALENDAR
VERSION:2.0
PRODID:-//Jazzclub Leipzig e.V. //NONSGML Events //EN
CALSCALE:GREGORIAN
X-WR-CALNAME:Jazzclub Leipzig e.V.
BEGIN:VEVENT
X-CREATED:20250127T093225Z
UID:34720
DTEND;VALUE=DATE:20250213T220000
DTSTART;VALUE=DATE:20250213T200000
DTSTAMP:20260424T025951Z
LOCATION:Noch Besser Leben
DESCRIPTION:Der Sound der Formation bewegt sich zwischen Krautrock, NDW, French Pop und Jazz. Auf ihrer kommenden Tournee wird sie Songs ihres selbstbetitelten Debüts wie zugleich neue Stücke präsentieren • Meryem […]
SUMMARY:BUHAI + Janda
ORGANIZER:Jazzclub Leipzig e.V.
URL;VALUE=URI:https://www.jazzclub-leipzig.de/kategorie-jazzkalender/buhai-janda/
TRANSP:OPAQUE
BEGIN:VALARM
ACTION:DISPLAY
TRIGGER;VALUE=DATE-TIME:20250213T190000Z
DESCRIPTION:Erinnerung an BUHAI + Janda
END:VALARM
END:VEVENT
END:VCALENDAR
