BEGIN:VCALENDAR
VERSION:2.0
PRODID:-//Jazzclub Leipzig e.V. //NONSGML Events //EN
CALSCALE:GREGORIAN
X-WR-CALNAME:Jazzclub Leipzig e.V.
BEGIN:VEVENT
X-CREATED:20250127T092757Z
UID:34711
DTEND;VALUE=DATE:20250212T220000
DTSTART;VALUE=DATE:20250212T200000
DTSTAMP:20260422T111518Z
LOCATION:Horns Erben
DESCRIPTION:Lyn&TheFingers ist eine junge Leipziger Band, die sich im HMT-Kontext gegründet hat und musikalisch zwischen Jazz, Neo Soul und Alternative Pop changiert • Christoph Sprenger (dr), Julian Kay Zichner (p), […]
SUMMARY:Lyn&TheFingers
ORGANIZER:Jazzclub Leipzig e.V.
URL;VALUE=URI:https://www.jazzclub-leipzig.de/kategorie-jazzkalender/lynthefingers/
TRANSP:OPAQUE
BEGIN:VALARM
ACTION:DISPLAY
TRIGGER;VALUE=DATE-TIME:20250212T190000Z
DESCRIPTION:Erinnerung an Lyn&amp\;TheFingers
END:VALARM
END:VEVENT
END:VCALENDAR
