BEGIN:VCALENDAR
VERSION:2.0
PRODID:-//Jazzclub Leipzig e.V. //NONSGML Events //EN
CALSCALE:GREGORIAN
X-WR-CALNAME:Jazzclub Leipzig e.V.
BEGIN:VEVENT
X-CREATED:20250127T092059Z
UID:34703
DTEND;VALUE=DATE:20250209T150000
DTSTART;VALUE=DATE:20250209T130000
DTSTAMP:20260424T031324Z
LOCATION:Passage Kino
DESCRIPTION:Der Dokumentarfilm beleuchtet die zweifelhafte Rolle der USA, die die Dekolonisierung afrikanischer Staaten in den 1960er Jahren aufgrund eigener machtpolitischer Interessen kritisch sahen und ihrerseits Jazzgrößen wie Nina Simone oder […]
SUMMARY:Soundtrack to a Coup d’Etat (Film)
ORGANIZER:Jazzclub Leipzig e.V.
URL;VALUE=URI:https://www.jazzclub-leipzig.de/kategorie-jazzkalender/soundtrack-to-a-coup-detat-film/
TRANSP:OPAQUE
BEGIN:VALARM
ACTION:DISPLAY
TRIGGER;VALUE=DATE-TIME:20250209T120000Z
DESCRIPTION:Erinnerung an Soundtrack to a Coup d&#8217\;Etat (Film)
END:VALARM
END:VEVENT
END:VCALENDAR
