BEGIN:VCALENDAR
VERSION:2.0
PRODID:-//Jazzclub Leipzig e.V. //NONSGML Events //EN
CALSCALE:GREGORIAN
X-WR-CALNAME:Jazzclub Leipzig e.V.
BEGIN:VEVENT
X-CREATED:20250127T091938Z
UID:34701
DTEND;VALUE=DATE:20250208T220000
DTSTART;VALUE=DATE:20250208T200000
DTSTAMP:20260424T045536Z
LOCATION:Blue Note (Dresden)
DESCRIPTION:Das aufstrebende Quintett lernte sich in den hippen Jazzclubs Berlins kennen und repräsentiert damit die innovativen Seiten der modernen Jazzszene • Artur Rutkevich (as), Nick Cavoli (tr), Arseny Rykov (p), […]
SUMMARY:Artur Rutkevich Quintet
ORGANIZER:Jazzclub Leipzig e.V.
URL;VALUE=URI:https://www.jazzclub-leipzig.de/kategorie-jazzkalender/artur-rutkevich-quintet/
TRANSP:OPAQUE
BEGIN:VALARM
ACTION:DISPLAY
TRIGGER;VALUE=DATE-TIME:20250208T190000Z
DESCRIPTION:Erinnerung an Artur Rutkevich Quintet
END:VALARM
END:VEVENT
END:VCALENDAR
