BEGIN:VCALENDAR
VERSION:2.0
PRODID:-//Jazzclub Leipzig e.V. //NONSGML Events //EN
CALSCALE:GREGORIAN
X-WR-CALNAME:Jazzclub Leipzig e.V.
BEGIN:VEVENT
X-CREATED:20250127T091706Z
UID:34697
DTEND;VALUE=DATE:20250206T220000
DTSTART;VALUE=DATE:20250206T200000
DTSTAMP:20260422T111518Z
LOCATION:Blue Note (Dresden)
DESCRIPTION:Das junge Quartett lernte sich während des Studiums im norwegischen Oslo kennen und teilt eine gemeinsame Leidenschaft für den nordischen Jazz • Jeff Wagner (git), Isak Austnes Brekken (p), Loreen […]
SUMMARY:Wagner/Brekken/Sima/Wybrańczyk
ORGANIZER:Jazzclub Leipzig e.V.
URL;VALUE=URI:https://www.jazzclub-leipzig.de/kategorie-jazzkalender/wagner-brekken-sima-wybranczyk/
TRANSP:OPAQUE
BEGIN:VALARM
ACTION:DISPLAY
TRIGGER;VALUE=DATE-TIME:20250206T190000Z
DESCRIPTION:Erinnerung an Wagner/Brekken/Sima/Wybrańczyk
END:VALARM
END:VEVENT
END:VCALENDAR
