BEGIN:VCALENDAR
VERSION:2.0
PRODID:-//Jazzclub Leipzig e.V. //NONSGML Events //EN
CALSCALE:GREGORIAN
X-WR-CALNAME:Jazzclub Leipzig e.V.
BEGIN:VEVENT
X-CREATED:20250127T090732Z
UID:34693
DTEND;VALUE=DATE:20250205T220000
DTSTART;VALUE=DATE:20250205T200000
DTSTAMP:20260424T031416Z
LOCATION:Horns Erben
DESCRIPTION:Regelmäßig erntet der Liedermacher Tom Liwa mit seinen Alben Begeisterungsstürme – so auch zuletzt mit »Primzahlen aus dem Bardo«. Auf der Bühne steht er indes zumeist alleine und erschafft so […]
SUMMARY:Tom Liwa
ORGANIZER:Jazzclub Leipzig e.V.
URL;VALUE=URI:https://www.jazzclub-leipzig.de/kategorie-jazzkalender/tom-liwa/
TRANSP:OPAQUE
BEGIN:VALARM
ACTION:DISPLAY
TRIGGER;VALUE=DATE-TIME:20250205T190000Z
DESCRIPTION:Erinnerung an Tom Liwa
END:VALARM
END:VEVENT
END:VCALENDAR
