BEGIN:VCALENDAR
VERSION:2.0
PRODID:-//Jazzclub Leipzig e.V. //NONSGML Events //EN
CALSCALE:GREGORIAN
X-WR-CALNAME:Jazzclub Leipzig e.V.
BEGIN:VEVENT
X-CREATED:20241127T102146Z
UID:34478
DTEND;VALUE=DATE:20250127T213000
DTSTART;VALUE=DATE:20250127T193000
DTSTAMP:20260424T052127Z
LOCATION:HMT Blackbox
DESCRIPTION:Studierende der Klassen von Michael Wollny sowie Frank Chastenier präsentieren eigene Kompositionen • Entritt frei
SUMMARY:Klassenabend Jazzklavier
ORGANIZER:Jazzclub Leipzig e.V.
URL;VALUE=URI:https://www.jazzclub-leipzig.de/kategorie-jazzkalender/klassenabend-jazzklavier/
TRANSP:OPAQUE
BEGIN:VALARM
ACTION:DISPLAY
TRIGGER;VALUE=DATE-TIME:20250127T183000Z
DESCRIPTION:Erinnerung an Klassenabend Jazzklavier
END:VALARM
END:VEVENT
END:VCALENDAR
