BEGIN:VCALENDAR
VERSION:2.0
PRODID:-//Jazzclub Leipzig e.V. //NONSGML Events //EN
CALSCALE:GREGORIAN
X-WR-CALNAME:Jazzclub Leipzig e.V.
BEGIN:VEVENT
X-CREATED:20241127T101859Z
UID:34474
DTEND;VALUE=DATE:20250126T220000
DTSTART;VALUE=DATE:20250126T200000
DTSTAMP:20260424T045505Z
LOCATION:naTo
DESCRIPTION:Seit ihrer Gründung im Jahr 2006 wurde die Unibigband bereits mit mehreren Preisen ausgezeichnet. Ihr Repertoire umfasst Swingstandards, Latin Jazz sowie moderne Jazzkompositionen • VVK 15/10 €
SUMMARY:Unibigband Leipzig
ORGANIZER:Jazzclub Leipzig e.V.
URL;VALUE=URI:https://www.jazzclub-leipzig.de/kategorie-jazzkalender/unibigband-leipzig-8/
TRANSP:OPAQUE
BEGIN:VALARM
ACTION:DISPLAY
TRIGGER;VALUE=DATE-TIME:20250126T190000Z
DESCRIPTION:Erinnerung an Unibigband Leipzig
END:VALARM
END:VEVENT
END:VCALENDAR
