BEGIN:VCALENDAR
VERSION:2.0
PRODID:-//Jazzclub Leipzig e.V. //NONSGML Events //EN
CALSCALE:GREGORIAN
X-WR-CALNAME:Jazzclub Leipzig e.V.
BEGIN:VEVENT
X-CREATED:20241127T101807Z
UID:34472
DTEND;VALUE=DATE:20250125T220000
DTSTART;VALUE=DATE:20250125T200000
DTSTAMP:20260424T045623Z
LOCATION:Mediencampus Villa Ida
DESCRIPTION:Das Quartett um die kongeniale Berliner Free-Jazz-Ikone Alexander von Schlippenbach präsentiert ein Set, das Altersweisheit und musikalisches Traditionsbewusstsein mit unstillbarer Neugierde verbindet • Alexander von Schlippenbach (p), Günter Baby Sommer […]
SUMMARY:Campus Jazz I Old Fellas
ORGANIZER:Jazzclub Leipzig e.V.
URL;VALUE=URI:https://www.jazzclub-leipzig.de/kategorie-jazzkalender/campus-jazz-i-old-fellas/
TRANSP:OPAQUE
BEGIN:VALARM
ACTION:DISPLAY
TRIGGER;VALUE=DATE-TIME:20250125T190000Z
DESCRIPTION:Erinnerung an Campus Jazz I Old Fellas
END:VALARM
END:VEVENT
END:VCALENDAR
